BEGIN:VCALENDAR
VERSION:2.0
PRODID:-//Redding Method™ - ECPv6.5.1.4//NONSGML v1.0//EN
CALSCALE:GREGORIAN
METHOD:PUBLISH
X-WR-CALNAME:Redding Method™
X-ORIGINAL-URL:https://reddingmethod.com
X-WR-CALDESC:Events for Redding Method™
REFRESH-INTERVAL;VALUE=DURATION:PT1H
X-Robots-Tag:noindex
X-PUBLISHED-TTL:PT1H
BEGIN:VTIMEZONE
TZID:America/Los_Angeles
BEGIN:DAYLIGHT
TZOFFSETFROM:-0800
TZOFFSETTO:-0700
TZNAME:PDT
DTSTART:20180311T100000
END:DAYLIGHT
BEGIN:STANDARD
TZOFFSETFROM:-0700
TZOFFSETTO:-0800
TZNAME:PST
DTSTART:20181104T090000
END:STANDARD
END:VTIMEZONE
BEGIN:VEVENT
DTSTART;TZID=America/Los_Angeles:20180111T103000
DTEND;TZID=America/Los_Angeles:20180111T123000
DTSTAMP:20260425T120511
CREATED:20180102T235958Z
LAST-MODIFIED:20180102T235958Z
UID:1607-1515666600-1515673800@reddingmethod.com
SUMMARY:Yarn Dyeing Class 3
DESCRIPTION:000000Class 3; Thursday\, January 11\,  2018 10:30 am PST: Glaze (part 2)\, speckle dyed\, gradient
URL:https://reddingmethod.com/event/yarn-dyeing-class-3/
END:VEVENT
END:VCALENDAR