BEGIN:VCALENDAR
VERSION:2.0
PRODID:-//Redding Method™ - ECPv6.5.1.4//NONSGML v1.0//EN
CALSCALE:GREGORIAN
METHOD:PUBLISH
X-WR-CALNAME:Redding Method™
X-ORIGINAL-URL:https://reddingmethod.com
X-WR-CALDESC:Events for Redding Method™
REFRESH-INTERVAL;VALUE=DURATION:PT1H
X-Robots-Tag:noindex
X-PUBLISHED-TTL:PT1H
BEGIN:VTIMEZONE
TZID:America/Los_Angeles
BEGIN:DAYLIGHT
TZOFFSETFROM:-0800
TZOFFSETTO:-0700
TZNAME:PDT
DTSTART:20180311T100000
END:DAYLIGHT
BEGIN:STANDARD
TZOFFSETFROM:-0700
TZOFFSETTO:-0800
TZNAME:PST
DTSTART:20181104T090000
END:STANDARD
END:VTIMEZONE
BEGIN:VEVENT
DTSTART;TZID=America/Los_Angeles:20180112T103000
DTEND;TZID=America/Los_Angeles:20180112T120000
DTSTAMP:20260425T132913
CREATED:20180103T000048Z
LAST-MODIFIED:20180103T000048Z
UID:1609-1515753000-1515758400@reddingmethod.com
SUMMARY:Yarn Dyeing Class 4
DESCRIPTION:000000Class 4; Friday\, January 12\, 2018 10:30 am:  Self striping yarn.  This class can be fairly mind stretching (come to class rested.)
URL:https://reddingmethod.com/event/yarn-dyeing-class-4/
END:VEVENT
END:VCALENDAR