BEGIN:VCALENDAR
VERSION:2.0
PRODID:-//Redding Method™ - ECPv6.5.1.4//NONSGML v1.0//EN
CALSCALE:GREGORIAN
METHOD:PUBLISH
X-ORIGINAL-URL:https://reddingmethod.com
X-WR-CALDESC:Events for Redding Method™
REFRESH-INTERVAL;VALUE=DURATION:PT1H
X-Robots-Tag:noindex
X-PUBLISHED-TTL:PT1H
BEGIN:VTIMEZONE
TZID:America/Los_Angeles
BEGIN:DAYLIGHT
TZOFFSETFROM:-0800
TZOFFSETTO:-0700
TZNAME:PDT
DTSTART:20180311T100000
END:DAYLIGHT
BEGIN:STANDARD
TZOFFSETFROM:-0700
TZOFFSETTO:-0800
TZNAME:PST
DTSTART:20181104T090000
END:STANDARD
END:VTIMEZONE
BEGIN:VEVENT
DTSTART;TZID=America/Los_Angeles:20180114T110000
DTEND;TZID=America/Los_Angeles:20180114T143000
DTSTAMP:20260425T133916
CREATED:20161019T031212Z
LAST-MODIFIED:20181202T024217Z
UID:866-1515927600-1515940200@reddingmethod.com
SUMMARY:Colorways Main Class (7)
DESCRIPTION:000000Ardis!  This is a very very very hard color way…  but you can do it!
URL:https://reddingmethod.com/event/colorways-winter-2016-main-class-7/
END:VEVENT
END:VCALENDAR