BEGIN:VCALENDAR
VERSION:2.0
PRODID:-//Redding Method™ - ECPv6.5.1.4//NONSGML v1.0//EN
CALSCALE:GREGORIAN
METHOD:PUBLISH
X-ORIGINAL-URL:https://reddingmethod.com
X-WR-CALDESC:Events for Redding Method™
REFRESH-INTERVAL;VALUE=DURATION:PT1H
X-Robots-Tag:noindex
X-PUBLISHED-TTL:PT1H
BEGIN:VTIMEZONE
TZID:America/Los_Angeles
BEGIN:DAYLIGHT
TZOFFSETFROM:-0800
TZOFFSETTO:-0700
TZNAME:PDT
DTSTART:20180311T100000
END:DAYLIGHT
BEGIN:STANDARD
TZOFFSETFROM:-0700
TZOFFSETTO:-0800
TZNAME:PST
DTSTART:20181104T090000
END:STANDARD
END:VTIMEZONE
BEGIN:VEVENT
DTSTART;TZID=America/Los_Angeles:20180322T080000
DTEND;TZID=America/Los_Angeles:20180325T170000
DTSTAMP:20260425T093152
CREATED:20171106T195554Z
LAST-MODIFIED:20171106T202440Z
UID:1550-1521705600-1521997200@reddingmethod.com
SUMMARY:STITCHES UNITED
DESCRIPTION:000000Join me at Stitches United in Hartford\, Conn.  My classes are open for enrollment and if you have any questions\, please contact me at Workshops!
URL:https://reddingmethod.com/event/stitches-united/
END:VEVENT
END:VCALENDAR